BEGIN:VCALENDAR
VERSION:2.0
PRODID:-//Kanz ul Huda - ECPv6.15.11//NONSGML v1.0//EN
CALSCALE:GREGORIAN
METHOD:PUBLISH
X-ORIGINAL-URL:https://www.kanzulhuda.com
X-WR-CALDESC:Events for Kanz ul Huda
REFRESH-INTERVAL;VALUE=DURATION:PT1H
X-Robots-Tag:noindex
X-PUBLISHED-TTL:PT1H
BEGIN:VTIMEZONE
TZID:UTC
BEGIN:STANDARD
TZOFFSETFROM:+0000
TZOFFSETTO:+0000
TZNAME:UTC
DTSTART:20240101T000000
END:STANDARD
END:VTIMEZONE
BEGIN:VEVENT
DTSTART;TZID=UTC:20251212T193000
DTEND;TZID=UTC:20251212T223000
DTSTAMP:20260421T084844
CREATED:20251212T045823Z
LAST-MODIFIED:20251212T045823Z
UID:11553-1765567800-1765578600@www.kanzulhuda.com
SUMMARY:𝗚𝗵𝘆𝗮𝗿𝘃𝗶 𝗦𝗵𝗮𝗿𝗶𝗳
DESCRIPTION:𝗚𝗵𝘆𝗮𝗿𝘃𝗶 𝗦𝗵𝗮𝗿𝗶𝗳\nLed by Shaykh Muḥammad Sāqib Iqbāl\n\n\n𝗙𝗿𝗶𝗱𝗮𝘆 𝟭𝟮𝘁𝗵 𝗗𝗲𝗰𝗲𝗺𝗯𝗲𝗿 𝟮𝟬𝟮𝟱 | 𝟳:𝟯𝟬𝗽𝗺 𝗧𝗶𝗹𝗹 𝟭𝟬:𝟯𝟬𝗽𝗺\n\n\n𝗧𝗼𝗺𝗼𝗿𝗿𝗼𝘄 at Kanz ul Huda’s Birmingham H.Q\n\n\nKanz ul Huda\n7-8 Adderley Rd\nBirmingham\, B8 1AW\n\n\nSee you all there inshaAllah
URL:https://www.kanzulhuda.com/event/%f0%9d%97%9a%f0%9d%97%b5%f0%9d%98%86%f0%9d%97%ae%f0%9d%97%bf%f0%9d%98%83%f0%9d%97%b6-%f0%9d%97%a6%f0%9d%97%b5%f0%9d%97%ae%f0%9d%97%bf%f0%9d%97%b6%f0%9d%97%b3/
LOCATION:Kanz ul Huda\, Adderley Road\, Birmingham\, West Midlands\, B8 1AW\, United Kingdom
CATEGORIES:Ihya Gatherings
ATTACH;FMTTYPE=image/jpeg:https://www.kanzulhuda.com/wp-content/uploads/2025/12/596239572_25581273181553492_6007004387142324268_n.jpg
ORGANIZER;CN="Kanz ul Huda":MAILTO:kanzulhudamedia@gmail.com
END:VEVENT
END:VCALENDAR