BEGIN:VCALENDAR
VERSION:2.0
PRODID:-//Kanz ul Huda - ECPv6.15.11//NONSGML v1.0//EN
CALSCALE:GREGORIAN
METHOD:PUBLISH
X-ORIGINAL-URL:https://www.kanzulhuda.com
X-WR-CALDESC:Events for Kanz ul Huda
REFRESH-INTERVAL;VALUE=DURATION:PT1H
X-Robots-Tag:noindex
X-PUBLISHED-TTL:PT1H
BEGIN:VTIMEZONE
TZID:UTC
BEGIN:STANDARD
TZOFFSETFROM:+0000
TZOFFSETTO:+0000
TZNAME:UTC
DTSTART:20240101T000000
END:STANDARD
END:VTIMEZONE
BEGIN:VEVENT
DTSTART;TZID=UTC:20251025T170000
DTEND;TZID=UTC:20251025T181500
DTSTAMP:20260419T133450
CREATED:20251021T093248Z
LAST-MODIFIED:20251021T093618Z
UID:11080-1761411600-1761416100@www.kanzulhuda.com
SUMMARY:Kanz Kids Mini Mawlid
DESCRIPTION:🌟 Kanz Kids Mini Mawlid 🌟 \nCelebrate the love of the Prophet ﷺ in a fun\, faith-filled way! 💛 \nJoin us for a spectacular mother-and-child (5-11) event packed with:\n🎨 Crafts & Workshops\n🎤 Naat Mehfil\n✨️Games\, Activities & Bouncy Castle\n☕ Mothers’ Coffee Meet with Refreshments \n📅 Saturday 25th October 2025\n🕒 3–4:15 PM | 5–6:15 PM\n📍 Kanz ul Huda\, Saltley\, Birmingham \nA heartwarming day of joy\, learning\, and connection you won’t want to miss! 💫 \n👉 Register now: www.kanzulhuda.com/mm
URL:https://www.kanzulhuda.com/event/kanz-kids-mini-mawlid/
LOCATION:Kanz ul Huda\, Adderley Road\, Birmingham\, West Midlands\, B8 1AW\, United Kingdom
CATEGORIES:Sisters Courses
ATTACH;FMTTYPE=image/jpeg:https://www.kanzulhuda.com/wp-content/uploads/2025/10/98456915-9f2f-4985-b600-b4d8216f3f69.jpg
ORGANIZER;CN="Kanz ul Huda":MAILTO:kanzulhudamedia@gmail.com
END:VEVENT
END:VCALENDAR