BEGIN:VCALENDAR
VERSION:2.0
PRODID:-//Kanz ul Huda - ECPv6.15.11//NONSGML v1.0//EN
CALSCALE:GREGORIAN
METHOD:PUBLISH
X-WR-CALNAME:Kanz ul Huda
X-ORIGINAL-URL:https://www.kanzulhuda.com
X-WR-CALDESC:Events for Kanz ul Huda
REFRESH-INTERVAL;VALUE=DURATION:PT1H
X-Robots-Tag:noindex
X-PUBLISHED-TTL:PT1H
BEGIN:VTIMEZONE
TZID:UTC
BEGIN:STANDARD
TZOFFSETFROM:+0000
TZOFFSETTO:+0000
TZNAME:UTC
DTSTART:20240101T000000
END:STANDARD
END:VTIMEZONE
BEGIN:VEVENT
DTSTART;TZID=UTC:20250823T170000
DTEND;TZID=UTC:20250824T000000
DTSTAMP:20260420T060113
CREATED:20250725T081000Z
LAST-MODIFIED:20250725T081000Z
UID:10149-1755968400-1755993600@www.kanzulhuda.com
SUMMARY:21st Annual GRAND MAWLID
DESCRIPTION:Kanz ul Huda presents its 21st Annual GRAND MAWLID on Saturday 23rd August 2025. Keynote lecture by Ustādh al-ʿUlamā\nShaykh Muhammad Sāqib Iqbāl Hh.
URL:https://www.kanzulhuda.com/event/21st-annual-grand-mawlid/
LOCATION:Kanz ul Huda\, Adderley Road\, Birmingham\, West Midlands\, B8 1AW\, United Kingdom
CATEGORIES:Ihya Gatherings
ATTACH;FMTTYPE=image/jpeg:https://www.kanzulhuda.com/wp-content/uploads/2025/07/3550a967-abd9-45d7-bf37-0b91cbead718-scaled.jpeg
ORGANIZER;CN="Kanz ul Huda":MAILTO:kanzulhudamedia@gmail.com
END:VEVENT
END:VCALENDAR