BEGIN:VCALENDAR
VERSION:2.0
PRODID:-//Kanz ul Huda - ECPv6.15.11//NONSGML v1.0//EN
CALSCALE:GREGORIAN
METHOD:PUBLISH
X-WR-CALNAME:Kanz ul Huda
X-ORIGINAL-URL:https://www.kanzulhuda.com
X-WR-CALDESC:Events for Kanz ul Huda
REFRESH-INTERVAL;VALUE=DURATION:PT1H
X-Robots-Tag:noindex
X-PUBLISHED-TTL:PT1H
BEGIN:VTIMEZONE
TZID:UTC
BEGIN:STANDARD
TZOFFSETFROM:+0000
TZOFFSETTO:+0000
TZNAME:UTC
DTSTART:20240101T000000
END:STANDARD
END:VTIMEZONE
BEGIN:VEVENT
DTSTART;TZID=UTC:20250228T193000
DTEND;TZID=UTC:20250228T213000
DTSTAMP:20260422T091130
CREATED:20250227T161506Z
LAST-MODIFIED:20250227T162702Z
UID:8579-1740771000-1740778200@www.kanzulhuda.com
SUMMARY:READY\, SET\, RAMAḌĀN
DESCRIPTION:An awakening and thought provoking lecture for the youth on the importance\, sanctity and significance of the sacred month of Ramadan. \nSpread the word!
URL:https://www.kanzulhuda.com/event/ready-set-rama%e1%b8%8dan/
LOCATION:Kanz ul Huda\, Adderley Road\, Birmingham\, West Midlands\, B8 1AW\, United Kingdom
CATEGORIES:Ihya Gatherings
ATTACH;FMTTYPE=image/jpeg:https://www.kanzulhuda.com/wp-content/uploads/2025/02/a24090df-631c-411d-bb96-c1b042edb3b5.jpg
ORGANIZER;CN="Kanz ul Huda":MAILTO:kanzulhudamedia@gmail.com
END:VEVENT
END:VCALENDAR