BEGIN:VCALENDAR
VERSION:2.0
PRODID:-//Kanz ul Huda - ECPv6.15.11//NONSGML v1.0//EN
CALSCALE:GREGORIAN
METHOD:PUBLISH
X-ORIGINAL-URL:https://www.kanzulhuda.com
X-WR-CALDESC:Events for Kanz ul Huda
REFRESH-INTERVAL;VALUE=DURATION:PT1H
X-Robots-Tag:noindex
X-PUBLISHED-TTL:PT1H
BEGIN:VTIMEZONE
TZID:UTC
BEGIN:STANDARD
TZOFFSETFROM:+0000
TZOFFSETTO:+0000
TZNAME:UTC
DTSTART:20240101T000000
END:STANDARD
END:VTIMEZONE
BEGIN:VEVENT
DTSTART;TZID=UTC:20250213T190000
DTEND;TZID=UTC:20250213T220000
DTSTAMP:20260422T091259
CREATED:20250209T160103Z
LAST-MODIFIED:20250209T160103Z
UID:7429-1739473200-1739484000@www.kanzulhuda.com
SUMMARY:The Night of Forgiveness
DESCRIPTION:An Unforgettable Night Awaits  \nJoin us for The Night of Forgiveness—a beautiful opportunity to reflect\, repent\, and renew your connection with Allah. \nDon’t miss this special sisters-only gathering on Shab-e-Bara’at\, the blessed night of forgiveness and mercy. \nThursday\, 13th February 2025 \n 7 PM – 10 PM (8 PM prompt start) \n Kanz Ul Huda\, Saltley\, Birmingham \nLet’s come together to seek His mercy and embrace the blessings of this sacred night.
URL:https://www.kanzulhuda.com/event/the-night-of-forgiveness/
LOCATION:Kanz ul Huda\, Adderley Road\, Birmingham\, West Midlands\, B8 1AW\, United Kingdom
CATEGORIES:Sisters Courses
ATTACH;FMTTYPE=image/jpeg:https://www.kanzulhuda.com/wp-content/uploads/2025/02/IMG-20250208-WA0000.jpg
ORGANIZER;CN="Kanz ul Huda":MAILTO:kanzulhudamedia@gmail.com
END:VEVENT
END:VCALENDAR